BEGIN:VCALENDAR
VERSION:2.0
PRODID:-//Surprise Lake Camp - ECPv6.15.20//NONSGML v1.0//EN
CALSCALE:GREGORIAN
METHOD:PUBLISH
X-WR-CALNAME:Surprise Lake Camp
X-ORIGINAL-URL:https://surpriselake.org
X-WR-CALDESC:Events for Surprise Lake Camp
REFRESH-INTERVAL;VALUE=DURATION:PT1H
X-Robots-Tag:noindex
X-PUBLISHED-TTL:PT1H
BEGIN:VTIMEZONE
TZID:America/New_York
BEGIN:DAYLIGHT
TZOFFSETFROM:-0500
TZOFFSETTO:-0400
TZNAME:EDT
DTSTART:20250309T070000
END:DAYLIGHT
BEGIN:STANDARD
TZOFFSETFROM:-0400
TZOFFSETTO:-0500
TZNAME:EST
DTSTART:20251102T060000
END:STANDARD
BEGIN:DAYLIGHT
TZOFFSETFROM:-0500
TZOFFSETTO:-0400
TZNAME:EDT
DTSTART:20260308T070000
END:DAYLIGHT
BEGIN:STANDARD
TZOFFSETFROM:-0400
TZOFFSETTO:-0500
TZNAME:EST
DTSTART:20261101T060000
END:STANDARD
BEGIN:DAYLIGHT
TZOFFSETFROM:-0500
TZOFFSETTO:-0400
TZNAME:EDT
DTSTART:20270314T070000
END:DAYLIGHT
BEGIN:STANDARD
TZOFFSETFROM:-0400
TZOFFSETTO:-0500
TZNAME:EST
DTSTART:20271107T060000
END:STANDARD
END:VTIMEZONE
BEGIN:VEVENT
DTSTART;VALUE=DATE:20260217
DTEND;VALUE=DATE:20260327
DTSTAMP:20260420T054112
CREATED:20260213T215215Z
LAST-MODIFIED:20260220T130751Z
UID:53630-1771286400-1774569599@surpriselake.org
SUMMARY:March Madness Fundraiser 2026
DESCRIPTION:March Madness is here . . . and it’s our 20th Year!\nJoin the SLCAA NCAA Basketball Tournament Bracket Challenge for your chance to win cash\, have some fun\, and support Surprise Lake Camp at the same time. \nThis annual SLC Alumni Association fundraiser is a win-win — 50% of all proceeds go directly to camp\, and the other 50% is awarded to our bracket champions. Don’t miss your shot to be part of the excitement! \nMain Pool: $36 per entry. Enter as many times as you like. \nSweet 16 Pool: $20 per entry. Enter as many times as you like. \nEntry Deadlines:\nMain Pool: Entries can be made after Selection Sunday (March 15) but no later than 10am on Thursday\, March 19. \nSweet 16 Pool: No later than 5 pm on Thursday\, March 26. \nOther Reminders:\nThe play-in games are NOT included in our pool. \nOur Main Pool will start with the Round of 64. \nThe registration page will close at the start of the first games! \nPlease check your email(s) for the Pool ID and Password.  If you do not receive the pool website and login information upon submitting your registration\, please check your spam folders.  The email will come from alumni@surpriselake.org.  If you have any general questions\, please email Joe Goldberg. \n			\n				\n\n	\n	\n	\n		March Madness Fundraiser 2026 \n\n	\n	\n		\n                                \n                \n                \n                \n                \n\n                                                        \n                \n                \n                \n                \n\n                \n                        Name*\n                            \n                            \n                                                    \n                                                    First\n                                                \n                            \n                            \n                                                    \n                                                    Last\n                                                \n                            \n                        Email*\n                            \n                        Phone*Address*    \n                    \n                         \n                                        \n                                        Street Address\n                                    \n                                        \n                                        Address Line 2\n                                    \n                                    \n                                    City\n                                 \n                                        AlabamaAlaskaAmerican SamoaArizonaArkansasCaliforniaColoradoConnecticutDelawareDistrict of ColumbiaFloridaGeorgiaGuamHawaiiIdahoIllinoisIndianaIowaKansasKentuckyLouisianaMaineMarylandMassachusettsMichiganMinnesotaMississippiMissouriMontanaNebraskaNevadaNew HampshireNew JerseyNew MexicoNew YorkNorth CarolinaNorth DakotaNorthern Mariana IslandsOhioOklahomaOregonPennsylvaniaPuerto RicoRhode IslandSouth CarolinaSouth DakotaTennesseeTexasUtahU.S. Virgin IslandsVermontVirginiaWashingtonWest VirginiaWisconsinWyomingArmed Forces AmericasArmed Forces EuropeArmed Forces Pacific\n                                        State\n                                      \n                                    \n                                    ZIP Code\n                                \n                    \n                # of Main Pool Entries Quantity\n					\n					\n						Price:\n						$36.00\n					\n					\n					 Quantity \n				# of Sweet 16 Entries Quantity\n					\n					\n						Price:\n						$20.00\n					\n					\n					 Quantity \n				Total\n							$0.00\n							\n						\n          \n            \n            \n            \n            \n            \n            \n            \n            \n            \n            \n            \n            \n            \n        \n                        \n                        \n\n                \n                \n                \n                \n                \n                \n                \n                \n                \n\n			        \n		\n			\n			\n		\n		March Madness Fundraiser 2026 quantity\n	\n	\n\n		Add to cart\n\n			\n\n	\n\n\n	\n	\n	Categories: Events\, SLCAA Events\n	\n	\n\n	\n\n	\n	\n\n					Related products\n				\n\n			\n					\n	Take Me Out To The Ball Game\nSelect options	\n			\n\n\n			\n					\n	Spring Alumni Overnight\nSelect options	\n			\n\n\n			\n					\n	Spring Alumni Overnight 2024\nSelect options	\n			\n\n\n			\n					\n	March Madness Fundraiser 2025\nSelect options
URL:https://surpriselake.org/event/marchmadness2026/
LOCATION:Online
CATEGORIES:All Events,Alumni Events
ATTACH;FMTTYPE=image/png:https://surpriselake.org/wp-content/uploads/2026/02/March-Madness-20th-Year.png
ORGANIZER;CN="SLC Alumni Association":MAILTO:alumni@surpriselake.org
END:VEVENT
END:VCALENDAR